BEGIN:VCALENDAR
VERSION:2.0
PRODID:-//Travel Buddies Talk - ECPv6.13.2.1//NONSGML v1.0//EN
CALSCALE:GREGORIAN
METHOD:PUBLISH
X-ORIGINAL-URL:https://travelbuddiestalk.com
X-WR-CALDESC:Events for Travel Buddies Talk
REFRESH-INTERVAL;VALUE=DURATION:PT1H
X-Robots-Tag:noindex
X-PUBLISHED-TTL:PT1H
BEGIN:VTIMEZONE
TZID:Asia/Kolkata
BEGIN:STANDARD
TZOFFSETFROM:+0530
TZOFFSETTO:+0530
TZNAME:IST
DTSTART:20260101T000000
END:STANDARD
END:VTIMEZONE
BEGIN:VEVENT
DTSTART;TZID=Asia/Kolkata:20260328T080000
DTEND;TZID=Asia/Kolkata:20260403T170000
DTSTAMP:20260424T020842
CREATED:20260121T165904Z
LAST-MODIFIED:20260127T080520Z
UID:8806-1774684800-1775235600@travelbuddiestalk.com
SUMMARY:BALI-GILLI-JAVA
DESCRIPTION:BALI – JAVA – GILLI ISLAND\nGet ready for an adrenaline-fueled Indonesian escape hitting Bali’s beaches and temples\, Java’s volcanic treks\, and Gili Islands’ underwater paradise—perfect for your viral Reels as a travel creator! This high-energy itinerary packs adventure\, culture\, and party vibes tailored to your love for surfing\, rituals\, and island hops\nKick off in Kuta with epic surf lessons at Kuta Beach\, then haggle at vibrant art markets for batik treasures before sunset clubbing at  Finns Beach Club in Canggu—pure fire for your Insta stories. Dive into spiritual vibes at Tirta Empul with sacred water purification rituals\, wearing a yellow sarong as locals chant\, followed by nasi goreng feasts exploding with shrimp paste heat. \nHop to East Java for Mount Ijen’s midnight trek to witness electric-blue flames from sulfur vents\, a surreal Reel goldmine only visible pre-dawn\, then chase it with Mount Bromo’s sunrise jeep ride over lunar landscapes and steaming craters. Fuel up on babi guling—crispy roast pork with chili blaze—and luwak coffee from cat-digested beans for that earthy kick on the descent. \nFast boat to Gili Trawangan for turtle snorkeling amid Jason deCaires Taylor’s eerie underwater sculptures\, swing on beachside sunset swings\, and rage at beach bonfires with glow paint and floating bars—no cars\, just horse carts and party chaos. Island-hop to Gili Air for chill markets and freediving\, or Meno for secret beaches—end with pisang goreng banana fritters oozing caramel perfection. Pro tip: Pack cash for Gilis’ ATM drought and motion sickness tabs for boats—your 2026 solo adventure awaits! \nDay 1: Kuta Beach\, Market & Clubbing\n\n08:00-10:00: Airport pickup to Kuta hotel.\n10:00-13:00: Surf at Kuta Beach or beach lounging.\n13:00-15:00: lunch with local tadka ;Nasi Goreng veg/non veg —fiery fried rice .\n15:00-17:00: shopping time Kuta Art Market—haggle batik sarongs\, wood carvings\, silver jewelry.\n17:00-18:00: Lets explore Kuta Beachwalk Mall\, sunset yoga.\n18:00-20:00: Back to hotel and change for clubbing\n20:00-00:00: Sky Garden/Paddy’s clubbing—fire dancers\, EDM drops\, bucket cocktails.\n\nStay in kuta \nDay 2: Full Day Nusa Penida Day Trip\n07:00-08:00: Fast boat from Sanur (arrive 08:45).\n\n09:00-12:00: Private car for Kelingking T-Rex cliffs & Broken Beach.\n12:00-14:00: Sate Lilit lunch\n14:00-16:00: Crystal Bay .\n16:00-18:00: Return boat to Kuta.\n\nStay in kuta \nDay 3:Fast Boat to Gili Trawangan (Party Island)\n\n08:00-09:00: Padang Bai/Serangan harbor (45min drive).\n09:30-11:30: Fast boat to Gili T (2hrs\, dep. multiple daily).\n12:00-15:00: Check-in private bungalow with pool\n15:00-18:00: Bike rental\, circle island (no cars!).\n18:00-22:00: Sunset beach swings\, beach bars.\n\nStay in bungalows \nDay 4:Gili Snorkel & Underwater Statues\n\n08:00-12:00: Snorkel tour—turtles at Turtle Point\, coral reefs\, WWII shipwreck; see 50+ sea turtles.\n12:00-14:00: Soto Ayam beach lunch—lemongrass-turmeric chicken soup\, floating rice cakes\, post-snorkel soul warmer.\n14:00-17:00: Relax hammocks\, paddleboarding.\nEvening: Return to kuta\n\nStay in kuta \nDay 5: Kintamani Volcano Loop\n08:00-09:30: Northbound pickup.\n\n09:30-10:30: Barong dance show.\n10:45-11:45: Silver village.\n11:45-13:00: Goa Gajah temple.\n13:00-15:00: Bebek Betutu lunch—24hr slow-cooked duck bursting tamarind-turmeric.\n15:00-17:00: Tirta Empul Holy Springs—sarong dips in 30 pools\, underwater breaths at blessing spouts.\n\nStay in Ubud \nDay 6: Mount Batur Sunrise Jeep\n03:00-05:00: Jeep to 1\,350m summit viewpoint.\n\n05:45-07:00: Telur Vulkanik breakfast—volcano steam-boiled eggs.\n07:00-09:00: Lava field exploration.\n09:00-11:00: Luak Coffee tasting—cat-pooped beans with chocolate-earth finish.\nAfternoon: Free time.\n\nStay in Ubud \nDay 7: Fly Home\n08:00-12:00: Pisang Goreng—double-fried banana fritters\, molten caramel center.\n12:00-13:00: Airport transfer (DPS). \nAfternoon: Flights home. \nEXTENDED TRIP TO GILLI ISLAND \nDay 7: To East Java – Ijen Acclimatize\nToday we will got o east java by shared vehicle\, early morning 5 hour adventure journey\n\n07:00-09:00: Ferry Gilimanuk to Banyuwangi.\n09:00-14:00: Drive to Ijen guesthouse.\n14:00-17:00: Rest\, explore sulfur vents.\n17:00-20:00: Take rest till 12 in the mid night\n\nDay 8: Ijen Trek Return + Canggu Surf & Finns Beach Club\n00:00-01:30: Drive to Ijen trailhead.\n\n01:30-04:00: Hike to crater rim (blue flames).\n04:00-06:00: Sunrise lake views.\n06:00-08:00: Descend. Tempe Goreng—fermented soybean fritters.\n08:00-14:00: Ferry back Bali\, arrive Kuta.\n14:00-16:00: Canggu surf lesson (30min drive)—2hr beginner waves at Batu Bolong Beach\, pro instructors\, foam boards for post-trek ease.\n16:00-22:00: Finns Beach Club—infinity pool sunset cocktails\, DJ sets from 4pm\, bamboo palace vibes\, night surfing under floodlights till midnight.\n\nDay 9:  Fly Home\n\nAfternoon flights: Homeward bound.\n\n📲 Book Now: WhatsApp +91 9029099709\nClick to Chat\nInclusions ✅\n\nAll ground transport (airport transfers\, AC vans\, fast boats to Nusa Penida/Gili)\n7 nights accommodation (Ubud/Canggu 6N beachfront\, Gili Island 1N)\nDaily breakfast\nGili T snorkel tour (turtle point\, shipwreck)\nTurtles at Turtle Point\, coral reefs\, WWII shipwreck; see 50+ sea turtles.\nMount Batur sunrise jeep tour (private 4×4)\nNusa Penida day trip (fast boat + driver)\nTirta Empul holy water ritual (sarong provided)\nCanggu surf lesson (2hrs\, pro instructor)\nFinns Beach Club day pass (pool access)\nEnglish-speaking guide for volcano treks\nCost 49999/- inr per person\n\nExtended Trip ✅\n\n3 nights accommodation\nEast Java return travel in shared vehicle\nMount Ijen blue fire trek (guide\, gas mask\, headlamp)\nDaily breakfast\nCost 65000/- inr per person\n\nExclusions ❌\n\nInternational/domestic flights\nPersonal expenses (souvenirs\, nightlife\, spa)\nOptional activities (ATV\, paragliding\, scuba diving)\nTravel visa fees (India passport: Visa on Arrival $35)\nTips for guides/drivers (₹200-500/person/day recommended)\nAlcoholic beverages\, extra meals beyond itinerary\nTravel insurance upgrades (extreme sports coverage)\nPeak season surcharges (Jul-Aug\, Apr-June)\n\n  \nFAQs ❓ \n1. Best time for this itinerary?\nApr-Jun or Sep-Oct (dry season). Avoid rainy Jul-Dec for Ijen treks. \n2. Fitness level required?\nModerate—Mount Ijen (3km uphill\, 1.5hrs)\, Batur jeep handles steep parts. Sturdy shoes mandatory. \n3. Group size?\nIdeal 4-12 people. Private groups get custom pacing. \n4. Can I skip Ijen trek?\nYes—replace with Ubud monkey forest + spa day (same inclusions). \n5. Vegetarian/Vegan options?\nAll meals customizable. Tempe goreng\, sate jamur (mushroom skewers) everywhere. \n6. Packing essentials?\nMotion sickness meds (boats)\, flashlight\, power bank\, rain jacket\, reef-safe sunscreen\, cash (no ATMs on Gilis). \n7. Booking deadline?\n21 days advance for peak season. Last-minute subject to availability. \n 
URL:https://travelbuddiestalk.com/event/bali-and-java/
LOCATION:bali\, Indonesia
CATEGORIES:Beach,Bucket List Special,honeymoon,international
ATTACH;FMTTYPE=image/jpeg:https://travelbuddiestalk.com/wp-content/uploads/2026/01/Photocentric-Business-Youtube-Thumbnail-4.jpg
ORGANIZER;CN="Gaurav":MAILTO:info@travelbuddiestalk.com
END:VEVENT
END:VCALENDAR