BEGIN:VCALENDAR
VERSION:2.0
PRODID:-//Travel Buddies Talk - ECPv6.13.2.1//NONSGML v1.0//EN
CALSCALE:GREGORIAN
METHOD:PUBLISH
X-WR-CALNAME:Travel Buddies Talk
X-ORIGINAL-URL:https://travelbuddiestalk.com
X-WR-CALDESC:Events for Travel Buddies Talk
REFRESH-INTERVAL;VALUE=DURATION:PT1H
X-Robots-Tag:noindex
X-PUBLISHED-TTL:PT1H
BEGIN:VTIMEZONE
TZID:Asia/Kolkata
BEGIN:STANDARD
TZOFFSETFROM:+0530
TZOFFSETTO:+0530
TZNAME:IST
DTSTART:20260101T000000
END:STANDARD
END:VTIMEZONE
BEGIN:VEVENT
DTSTART;TZID=Asia/Kolkata:20260404T080000
DTEND;TZID=Asia/Kolkata:20260414T170000
DTSTAMP:20260424T020751
CREATED:20260119T112658Z
LAST-MODIFIED:20260119T113137Z
UID:8785-1775289600-1776186000@travelbuddiestalk.com
SUMMARY:China Adventure -  探索中国
DESCRIPTION:Ultimate China Adventure –  探索中国\n\nBuckle up for the ultimate China rush—ancient wonders crash into futuristic flex! Slide down the Great Wall like a kid\, master Tai Chi at Temple of Heaven\, conquer glass skywalks at Tianmen Mountain\, and chase Avatar vibes on epic hikes. Bullet-train at 350km/h to Shanghai’s neon skyline\, selfie with pandas\, cruise “Venice canals\,” and devour dumplings in hidden hutongs. Cliffside towns over waterfalls? Check. Drone shows and cashless chaos? Double check. This ain’t tourism—it’s a thrill-packed memory maker. Ready to level up? 👇\nDAY 01: Land in Beijing – Jet lag? Nah\, straight into the chaos. \nDAY 02: Tai Chi\, Dumplings & Hutongs – Learn Tai Chi at the Temple of Heaven with a local master.\nMake dumplings inside a traditional Beijing home. Hutong vibes all day. \nDAY 03: Great Wall of China – Walk the Great Wall and slide down like a kid. Epic hikes\, zero regrets. \nDAY 04: Head to Changsha – Bullet train faster than Japan’s ….Zoom! \nDAY 05: Glass Walks & Heaven’s Gate – Hike Tianmen Mountain\, cross the cliff-hanging glass skywalk.\nVisit Heaven’s Gate—a massive rock arch 1\,500m above sea level. Heart-pounding views! \nDAY 06: Avatar Mountains – Ride the Bailong Elevator and explore the Avatar Mountains. Pandora IRL. \nDAY 07: Furong Ancient Town – Cliffside ancient town built over a waterfall. Misty magic. \nDAY 08: Hello\, Shanghai – Neon\, Skyline – Stroll The Bund\, where colonial charm meets futuristic skyline. \nDAY 09: Zen Gardens\, Dumplings & Tech City Flex – Zen gardens\, dumplings\, and China’s tech flex: drone shows\, smart retail\, cashless madness. Future is here. \nDAY 10: Panda Selfies & Venice of Shanghai – Take panda selfies at Shanghai Zoo.\nCruise canals in Zhujiajiao—the “Venice of Shanghai.” Cuteness overload + serene vibes. \nDAY 11: Group Hug & Goodbye – Explore the hip art scene at 798 District (old factory turned gallery). Eat through dumpling joints and night markets in the French Concession. Wrap it up with rooftop dinners\, neon nights\, and noodle memories. \nAdditional day to add a extended trip to Xian\, Terracotta Army\nDay 11-12; and take a flight on 12 evening for safer side. This tour is additional and includes Bullet train and entry ticket with one night additional stay in hotel in Xian city. \nTravel to Lintong\, the place where The Terracotta Army and the Mausoleum of the First Qin Emperor was discovered. The Terracotta Warriors are the most significant archeological excavations of the 20th century. There are more than 8\,000 life-size Terra-cotta soldiers and horses excavated from this area which all displayed in the practical battle formation in 3 pits respectively. No. 1 Pit is the largest\, first opened to the public on China National Day\, 1979. There are columns of soldiers at the front\, followed by war chariots at the back. No. 2 Pit was founded in the year 1976\, it contains a thousand warriors and 90 chariots of wood. No.3 pit has more than 7\,000 pottery soldiers\, horses\, chariots\, and even weapons. In the late afternoon\, transfer back to your hotel and train back.  \nChina’s 11-day thrill ride explodes with ancient empires\, vertigo-defying glass paths\, 350km/h bullet trains ripping past rice fields\, and neon-drenched nights—your ultimate Reel-worthy saga from Great Wall slides to 8\,000 clay warriors guarding eternity. \nDay 1: Land in Beijing – Snack Attack Launch\nTouch down at Beijing Capital Airport\, zip to your hutong-adjacent hotel. \n  \nStorm Tiananmen Square’s vast plazas\, then unleash hunger on Wangfujing Street’s wild night market: skewered scorpions crackling in oil\, silk-wrapped starfish\, lamb fat popsicles amid fortune-tellers and lantern glow. \nJet lag? Crushed by first steamy noodle bowl under red lanterns. \nStay in Beijing \nDay 2: Tai Chi Flow\, Dumpling Hands-On & Factory Art Rebellion\nBreakfast \nTai Chi session ;Dawn Tai Chi mastery at Temple of Heaven’s by a master of Thi Chi—flow like silk with a grizzled local sifu amid emperors’ prayer altars. \nToday you will learn how to make Dumplings from a local family; Rickshaw-dive into hutongs’ maze for grandma’s kitchen: knead dough\, stuff pork-cilantro bombs\, slurp family-style feast. \nDusk hits 798 Art District—graffiti-charged ex-factory exploding with neon panda sculptures\, VR immortality pods\, underground raves in Soviet silos. \nStay in Beijing \nDay 3: Great Wall Toboggan Mayhem\nBreakfast \nGreat Wall of China ; Mutianyu’s watchtowers are calling. Hike the steep sections where Ming soldiers once defended China and soak in endless mountain views. Then whoosh down the alpine toboggan—knees shaking\, wind in your face\, laughing like a kid on a 2\,000-year-old playground. Finish with a picnic of baozi with views fit for an emperor\, and if you’re up for it\, stop by the Lama Temple to see golden Buddha statues for a little extra good karma. \nStay in Beijing \nDay 4: Bullet to Changsha – Mountain Mystics & Spice Inferno\nTake the G79 bullet train from Beijing (350 km/h—faster than Japan’s Shinkansen at 320 km/h). Watch karst peaks flash by on your iPad. \nArrive in Changsha\, hike Yuelu Mountain’s bamboo paths to ancient pavilions with Tang poetry vibes\, and catch golden sunsets over the Xiang River cliffs. \nEnd at Huangxing Night Market: try stinky tofu that packs a punch\, grilled squid bursting with juice\, and beer ladies calling out amid 10\,000 neon lights. \n  \nDay 5: World’s Longest Cable Car to Glass Cliff Terror\nHop on a high-speed train to Zhangjiajie\, then ride the world’s longest cable car (7\,455m) for 30 vertigo-inducing minutes dangling over deep canyons—eagles will envy you below. \nClimb the 99 hairpin “Heaven Stair” steps carved into the mountain\, walk the cracking glass skywalk hugging the cliff edge\, and squeeze through the massive Heaven’s Gate arch piercing clouds at 1\,500m—like starring in your own kung fu blockbuster. \nEnd with sunset views and mountain-top snacks. Pure adrenaline! \nDay 6: Avatar Hike – Elevator to Infinity Pillars\nRocket up 326m in 2 minutes on the Bailong Elevator (world’s tallest outdoor lift) to Yuanjiajie—the floating quartz pillars that inspired Avatar’s Hallelujah Mountain. \nHike misty paths to the First Bridge Under Heaven (a natural rock bridge over the abyss) and the Emotionless Viewpoint’s infinity deck. \nWander down the 7.5km Golden Whip Stream trail through an emerald canyon with crystal waters\, sheer cliffs\, and monkeys crashing your Reels. Unreal vibes! \nDay 7: Furong – Waterfall Village Time Warp\nTake a 1.5-hour dash to Furong Ancient Town: a Tujia cliff village cascading over roaring rapids\, with houses perched on 200m drops. \nWander stone alleys spotting Miao silver headdresses\, sip fiery rice wine from smiling grannies\, and cross swaying swing bridges above misty waterfalls—air thick with sesame candy and timeless magic. \nHead back at night under starlit karst peaks. \nDay 8: Shanghai Bullet – Bund’s Skyline Time Machine\nCatch the G-train marathon (Zhangjiajie to Changsha to Shanghai\, 6-8 high-speed hours). \nArrive in Pudong: The Bund’s Euro-colonial buildings gaze up at the 632m Shanghai Tower’s laser lights. Sip rooftop cocktails as drone swarms sketch dragons across the sky\, with ferries honking below—total cyberpunk dream! \nDay 9: Zen Bazaars\, Dumpling Carnage & Cashless Chaos\nNavigate Yu Garden’s maze: koi-filled ponds\, dragon walls\, and 400-year-old teahouses serving “immortality” teas. \nRampage the French Concession—xiao long bao exploding with soup\, Tianzifang alley skewers (crunchy crayfish claws)\, and night markets pulsing with rap battles. \nDive into tech madness: facial-scan stores\, robot bartenders\, and WeChat Pay in a fully cashless world. \nDay 10: Panda Cuddles & Shanghai’s Secret Venice\nHit Shanghai Zoo for giant panda selfies—catch lazy furballs somersaulting bamboo (pro tip: 10am feeding frenzy is peak cuteness). 🐼📸 \nEscape to Zhujiajiao: “Venice of China” with gondolas under Ming bridges\, stilted teahouses pouring jasmine tea\, and silk weavers spinning rainbows—a serene break from the city buzz \nDay 11: Farewell- random hugs and lifetime memories. Fly back home\nOR \nDay 11-12 : Warrior Bullet Blitz & Noodle Farewell\nCatch the G1973 dawn bullet train to Xi’an (7 hours)—dive into the Terracotta Army: 8\,000 life-sized warriors\, horses\, and chariots frozen in battle for Emperor Qin (crossbows still ready). \nExplore the mausoleum’s underground pyramid mysteries. \nTravel to Lintong\, the place where The Terracotta Army and the Mausoleum of the First Qin Emperor was discovered. The Terracotta Warriors are the most significant archeological excavations of the 20th century. There are more than 8\,000 life-size Terra-cotta soldiers and horses excavated from this area which all displayed in the practical battle formation in 3 pits respectively. No. 1 Pit is the largest\, first opened to the public on China National Day\, 1979. There are columns of soldiers at the front\, followed by war chariots at the back. No. 2 Pit was founded in the year 1976\, it contains a thousand warriors and 90 chariots of wood. No.3 pit has more than 7\,000 pottery soldiers\, horses\, chariots\, and even weapons. In the late afternoon\, transfer back to your hotel and train back.  \nBlitz back by train\, slurp airport noodles\, and toast neon nights\, panda grins\, and epic wall slides. Farewell\, China \ntake flight back on 12th Day \nINCLUSIONS\n\nStay in 3-star hotels\nTwin sharing accommodation\n10 Breakfast\nAll transport as per itinerary\nInternal domestic flight\nEntrance fee to all places mentioned din the itinerary\nBullet train tickets\nAirport pickup and drops\nTBT team leader with you\n\nEXCLUSIONS\n\nInternational flights\nLunch/dinner\nInsurance\nInternational flights\nVisa\nPersonal expenses
URL:https://travelbuddiestalk.com/event/china-adventure-%e6%8e%a2%e7%b4%a2%e4%b8%ad%e5%9b%bd/
LOCATION:china\, China
ATTACH;FMTTYPE=image/jpeg:https://travelbuddiestalk.com/wp-content/uploads/2026/01/pexels-alice1-30584842-1.jpg
ORGANIZER;CN="Gaurav":MAILTO:info@travelbuddiestalk.com
END:VEVENT
BEGIN:VEVENT
DTSTART;TZID=Asia/Kolkata:20260410T080000
DTEND;TZID=Asia/Kolkata:20260419T170000
DTSTAMP:20260424T020751
CREATED:20230401T071027Z
LAST-MODIFIED:20251208T032842Z
UID:7942-1775808000-1776618000@travelbuddiestalk.com
SUMMARY:MADGASCAR ROAD TRIP
DESCRIPTION:MADAGASCAR\nTravel Buddies always try to find new adventures for you\, We explored Iceland\, the Amazon forest and even Antarctica and we were searching for our next destination so we point down to this country named Madagascar. \nThis is not any other road trip\, it is a Madagascar road trip\, you will find yourself around adventure\, the most challenging situations and mind-blowing landscaping in the world. Don’t expect fancy hotels and spas during the trip\, sometimes we will sleep in tents also\, so if you wanna live life in Madagascar way then only join this trip. \nThe island nation of Madagascar has developed its own distinct ecosystems and extraordinary wildlife since it split from the African continent an estimated 160 million years ago. Approximately 95 per cent of Madagascar’s reptiles\, 89 per cent of its plant life\, and 92 per cent of its mammals exist nowhere else on Earth. \nLocated off the east coast of Africa\, Madagascar is the world’s fifth largest island; at 144 million acres\, it’s almost the size of Texas. Madagascar’s climate is tropical along the coast\, temperate inland\, and arid in the south. The island harbours lush rainforests\, tropical dry forests\, plateaus and deserts. Its over 3\,000 miles of coastline and over 250 islands are home to some of the world’s largest coral reef systems and the most extensive mangrove areas in the Western Indian Ocean. \n \nWhy I Should Do This Trip: \nI love extreme conditions\, I am ok being stuck somewhere in the middle of nowhere and still enjoy it. \nI am ok if we are in a deep forest and sleeping in tents. \nI am looking for adventure and not a luxury. \nI am ok seeing the car tyre is getting changed\, I can read a book or watch Netflix(offline)…lol \nI am ok with no network and being in nature for days without social media. \nbut if you love luxury then maybe this trip is not for you otherwise throw your money on my face and hop on for the biggest adventure of your life in  Madagascar. \n  \nItinerary \nDAY 1 (10-April) – ARRIVE AT ANTANANARIVO \nDAY 2 (11-April) – ANDASIBE \nDAY 3 (12-April) – ANDASIBE – MANTADIA – ANDASIBE \nDAY 4 (13-April) – MAHAMBO \nDAY 5 (14-April) – MANOMPANA \nDAY 6 (15-April) – MANANARA NORD \nDAY 7 & 8 (16-17-April) – RANTABE \nDAY 09 (18-April) – DOMESTIC FLIGHT TO ANTANANARIVO \n  \n  \n  \nDAY 1 – ARRIVE AT ANTANANARIVO\nLand and get transferred to the Hotel\n\nMorning: \n\nStart your day early with a visit to Rova\, also known as the Queen’s Palace. This historic site features traditional Malagasy architecture and offers stunning views of the city.\nHead to the nearby Ambohimanga Rova\, a UNESCO World Heritage Site that is one of Madagascar’s most important cultural landmarks. This fortified royal city is surrounded by lush forest and features impressive stone structures and tombs.\nNext\, visit the Analakely Market\, one of the largest and most vibrant markets in Antananarivo. Here you’ll find a variety of goods\, including fresh produce\, textiles\, crafts\, and souvenirs.\n\nAfternoon: \n\nFor lunch\, head to La Varangue\, a popular restaurant that offers delicious Malagasy and French cuisine in a charming atmosphere.\nAfter lunch\, visit the Tsimbazaza Zoo to see a variety of animals\, including lemurs\, crocodiles\, and exotic birds. The zoo also features a botanical garden and a museum with exhibits on Madagascar’s flora and fauna.\nEnd your day with a relaxing stroll through the Pochard Market\, a bustling open-air market that offers a variety of local products\, such as textiles\, crafts\, and spices.\n\nEvening: \n\nFor dinner\, head to Le 3 Poivres\, a trendy restaurant that offers a variety of international dishes and a cosy atmosphere.\nAfter dinner\, enjoy a nightcap at Le Glacier Analakely\, a popular ice cream parlor that offers a variety of delicious flavours.\n\n\n\nStay in Antananarivo\n\nDAY 2 – ANDASIBE (160KM/PAVED ROADS)\nToday\, we will start our road trip. After taking our rental vehicle\, we will start our road trip and travel for 160km and reach Andasibe\nAndasibe is a popular destination in Madagascar known for its lush rainforests and unique wildlife.\n\n\n\nAndasibe-Mantadia National Park: This large protected area is home to a variety of lemurs\, including the Indri\, the largest lemur species. The park also features stunning waterfalls\, lush rainforests\, and a variety of other wildlife\, such as reptiles and birds.\nLemurs’ Park: This privately owned reserve is located near Antananarivo and offers visitors the opportunity to see a variety of lemur species up close.\nAndasibe Village: Take a stroll through the nearby village of Andasibe to experience the local culture and way of life. You can also visit the local market to see the variety of fruits\, vegetables\, and handicrafts sold by local vendors.\nPyereras Butterfly Farm: This farm is home to a variety of butterflies\, moths\, and other insects\, and offers guided tours and educational exhibits.\n\nStay in Andasibe \n\n\n\nDAY 3 – ANDASIBE – MANTADIA – ANDASIBE\n50KMS/DIRT ROADS\nToday we will reach Mantadia\nMantadia National Park is located in the eastern part of Madagascar and is known for its lush rainforest\, waterfalls\, and unique wildlife.\n\n\nStart your day early and drive to the entrance of Mantadia National Park. The drive takes approximately 2 hours.\nOnce you arrive at the park\, meet with your guide and begin your trek through the rainforest. The park is known for its wide range of lemurs\, including the diademed sifaka\, black-and-white ruffed lemurs\, and the indri\, the largest species of lemur.\nAs you hike through the rainforest\, you’ll also see a variety of flora and fauna\, such as chameleons\, birds\, and colourful butterflies.\nTake a break and enjoy a picnic lunch in a scenic spot in the park.\n Afternoon:\n\nContinue your trek through the rainforest and explore more of the park’s diverse ecosystems. You can visit the park’s many waterfalls\, such as the stunning Rianasoa Waterfall.\nReturn to the park entrance in the late afternoon\, and take some time to rest and relax before dinner.\n\nEvening: \n\nFor dinner\, head to a local restaurant or your accommodation for a meal of delicious Malagasy cuisine.\nAfter dinner\, take a night walk in the forest to see some of the park’s nocturnal wildlife\, such as mouse lemurs and various species of frogs.\n\n\n\n\nStay in Andasibe\n\nDAY 4 – MAHAMBO\n320KMS/PAVED ROADS\n\nIt will be a long day\, as we will drive 320km today.\nMahambo is a small coastal town located in the Toamasina region of Madagascar\, known for its beautiful beaches\, surfing\, and fishing.\nIn the afternoon\, head to the beach and try your hand at surfing. Mahambo is known for its great waves and is a popular destination for surfers of all levels.\nEnjoy a dinner of fresh seafood at a local restaurant or cook your own meal with ingredients purchased at the market.\n\nStay in Mahambo\n\nDAY 5 – MANOMPANA\n50KMS/DIRT ROADS\n\n\nWake up early and take a boat tour to the nearby Nosy Mangabe island. The island is a protected nature reserve and is home to several species of lemurs\, reptiles\, and birds.\nAfter your tour of Nosy Mangabe\, return to Mahambo for lunch and spend the afternoon exploring the town. You can rent a bike or take a walk to see more of the surrounding area.\n\n\nDAY 6 – ANTANAMBE\n50KMS/DIRT ROADS\n\n\n\nExplore the beautiful beaches\, coral reefs\, and wildlife on Antanambe Island.\nGo snorkelling or scuba diving to see the colourful marine life and coral reefs.\nTake a guided tour to see the native lemurs and other unique wildlife on the island.\nRelax on the beach\, swim in the crystal-clear waters\, and enjoy the beautiful scenery.\n\n\n\nStay in Antanambe\n \nDAY 7 – MANANARA NORD\n60KMS/DIRT ROADS\nMananara Nord is a small town located on the northeast coast of Madagascar\, surrounded by lush rainforest and stunning waterfalls\n\n\n\nArrive in Mananara Nord and check into your accommodation.\ntake a guided hike to the nearby Antakarana waterfall. The waterfall is located in the lush rainforest and is a great place for swimming and birdwatching.\nSpend the afternoon exploring the town and its surroundings. You can visit the local market to purchase fresh produce and crafts made by local artisans.\nIn the evening\, enjoy a dinner of traditional Malagasy cuisine at a local restaurant or cook your own meal with ingredients purchased at the market.\n\n\n\nStay in Mananara Nord\nDAY 8 – RANTABE\n50KMS/DIRT ROADS\nRanabe is a small village located in the Andavadoaka region of southwestern Madagascar. It is known for its beautiful beaches\, coral reefs\, and marine wildlife.\n\n\n\nTake a guided boat tour to the nearby coral reefs. The reefs are home to a variety of colourful fish\, sea turtles\, and other marine life.\nAfter your tour\, return to Ranabe for lunch and spend the afternoon relaxing on the beach or exploring the village.\nTake a guided boat tour to the nearby fishing villages. You can learn about the local fishing traditions and see how the locals live and work.\n\n\nStay in Rantabe\n\n\nDAY 9 – MAROANTSETRA\n50KMS/DIRT ROADS\n\n\n\nTake a boat ride to Nosy Mangabe\, a small island off the coast of Maroantsetra.\nSpend the next two days exploring the island’s rainforest\, beaches\, and diverse wildlife.\nLook for rare birds\, reptiles\, and primates that inhabit the island.\n\n\nStay in Maroantsetra \n\nDAY 10 – DOMESTIC FLIGHT TO ANTANANARIVO\nEarly morning flight to Antananarivo\n\nToday you can explore Antananarivo and have a party and stay in our comfortable hotel in the city and the next day take a flight home with happy memories or take an evening flight and fly back home.\n  \nFor the package\, kindly WhatsApp us on 9029099709 \nbook now with only 30000 Booking amount \nElse 130000 INR per person \nIncludes: \nStay for 10D/9N in double occupancy hotels \nBreakfast (9) Arranged \nAirport to Hostel/Hotel/Airbnb transfer \nTravel in a private vehicle (as per itinerary\, Nissan Double Cab or same) \nSelf-drive Nissan Double Cab for 7 days with rent\, fuel and other taxes \n1 Rooftop tent (optional) \nPisteur to navigate in a deep forest \nExcludes: \nAirfare \nVisa (we have an agent who can help you) \nDinner/Lunch \nPersonal Expense \nActivity/Entry charges \nTravel Insurance \n  \nInternational Requirements; \nDo consult your visa agent for proper visa and flight tickets\, and other requirements before booking the trip. \n  \nPS: ANIMAL SIGHTSEEING IS NOT GUARANTEED\, AS NATURE WORKS ON ITS OWN. \nCancellation Terms \n\nBooking fee(Non-refundable) : INR 30\,000/- (Inc. in total trip cost)\nMinimum 50% payment to be completed 60 days prior to departure\nThe remaining payments to be completed 30 days prior to departure\n\nQ. Is travelling during a pandemic is easy? \nThe pandemic is not allowing us to travel the way we were travelling in past and the future is not clear so you should be prepared for a sudden change in the plans without intimation. Things can change overnight and even countries can go under lockdown and in these situations\, none can do anything. So if you are travelling with us then be prepared to take this kind of risk and then only finalise your plans.TBT will not be responsible for any such event and no refunds will be made\, all the costs will be borne by the member who is joining us. \nQ. Trip requirements? \nA vaccine (both shots) certificate will be required and the trip will be based on the current guidelines of the EU for Indian travellers. If your 2nd dose is 9 months old then you must provide a booster dose certificate also. \n\n\nQ Do you need yellow fever to go to Madagascar?\n\n\n\n\n\n\n\nYellow fever vaccination certificate required for travellers aged 9 months or over arriving from countries with risk of yellow fever transmission and for travellers having transited for more than 12 hours through an airport of a country with risk of yellow fever transmission.\n\n\n\n\n\nQ.Which visa is needed for this trip? \n\n\n\n\n\n\n\n\n\n\n\nFrom Google\n\n\n\n\n\n\n\n\n\n\nTraveling to Madagascar is not possible unless you get a visa. Fortunately\, you can obtain a visa at the border on arrival\, through a foreign representative such as the Embassy of Madagascar or using an online eVisa application\, and iVisa can help with the process.\n\n\n\n\n\nQ. Will\, you help me to apply for a visa? \nAns: Although visas & flights do not come under our preview and you can contact your own agent but if you want then we will make you meet a visa expert agent\, who will surely help you with the visa process. We will not be responsible for visas and flights or agents. \nQ. Refund Policy \nAns: No refund 30 days before the trip. No reasons will be considered. Book after planning properly. \nQ.I want to see your last trip pics. \nAns: Follow the link: PICTURES \nQ. Can I drive it? \nAns: Yes you can drive if you have a valid Indian driving license and you can pay for the additional driver fee. \nQ. Why this trip is less costly because all the trips to Iceland are starting from 1.5 lac? \nAns. We believe in passing the benefits to members also\, as we are a group of passionate traveller who is running this company and not a business-oriented company. \nQ. How will I meet the group if I come? \nAns: We will add you to our WhatsApp group for further communication and if you are coming alone then we will arrange an airport pickup for you by public transport. \nQ.Do you have any referral discounts? \nAns: Yes\, if someone joins us because of you or with you then you will get a discount of 2500 rupees. \nQ.Any discount for a group? \nAns: Yes\, if you are more than 2 then you will get a group discount of 3000 Rupees per head. \nQ.Where can I see the T&C of the trips? \nAns: Follow this link: CLICK ME \nHow to Contact us? \nCall us on 9029099709 or E-mail us on info@travelbuddiestalk.com \n  \nTeam TBT \nwww.travelbuddiestalk.com \ninfo@travelbuddiestalk.com \nCall/Whatsapp: +91 9029099709
URL:https://travelbuddiestalk.com/event/madagascar-road-trip/
LOCATION:Madagascar
CATEGORIES:Beach,Bucket List Special,Customize Travel,international,Road Trip,Trails,Travel Buddies Talk
ATTACH;FMTTYPE=image/jpeg:https://travelbuddiestalk.com/wp-content/uploads/2023/04/madagaskar.jpeg
ORGANIZER;CN="Gaurav":MAILTO:info@travelbuddiestalk.com
END:VEVENT
END:VCALENDAR