BEGIN:VCALENDAR
VERSION:2.0
PRODID:-//Travel Buddies Talk - ECPv6.13.2.1//NONSGML v1.0//EN
CALSCALE:GREGORIAN
METHOD:PUBLISH
X-ORIGINAL-URL:https://travelbuddiestalk.com
X-WR-CALDESC:Events for Travel Buddies Talk
REFRESH-INTERVAL;VALUE=DURATION:PT1H
X-Robots-Tag:noindex
X-PUBLISHED-TTL:PT1H
BEGIN:VTIMEZONE
TZID:Asia/Kolkata
BEGIN:STANDARD
TZOFFSETFROM:+0530
TZOFFSETTO:+0530
TZNAME:IST
DTSTART:20260101T000000
END:STANDARD
END:VTIMEZONE
BEGIN:VEVENT
DTSTART;TZID=Asia/Kolkata:20260508T080000
DTEND;TZID=Asia/Kolkata:20260515T170000
DTSTAMP:20260424T032119
CREATED:20220721T090941Z
LAST-MODIFIED:20251208T031207Z
UID:7758-1778227200-1778864400@travelbuddiestalk.com
SUMMARY:FAROE ISLAND IN SUMMERS
DESCRIPTION:FAROE ISLAND (Sheep Islands)\n \nThe name Føroyar (Faroe Islands) is derived from old Norse Færeyjar and literally means Sheep Islands\, a name given by the Norse people that settled these rough and wind-swept isles during the Viking Age. \n\nBuckle up for the ultimate Faroe Islands road trip—a jaw-dropping adventure through dramatic cliffs\, puffin-packed islands\, and the world’s smallest capital! Land in Vágar\, cruise epic drives on Streymoy & Eysturoy\, hike insane peaks like Krosstindur\, chase rainbows at Mulafossur\, and soar over sheep-dotted landscapes in a helicopter. This isn’t just a trip; it’s a front-row seat to Mother Nature’s raw power\, with quaint villages of 14 souls\, ocean-gorged hikes\, and unplugged music festivals in locals’ homes. Perfect for thrill-seekers ready to ring in 2026 Viking-style!\n\nItinerary:\nDay 1: Land in Vagar\nDay 2 : Shakksun & Tjornuvik\nDay 3: Island of Eysturoy\nDay 4: Krosstindur\nDay 5: Klaksvik\nDay 6: Klaksvik\nDay 7: Mykines \nDay 8: Vagar-Fly Out of Sheep Island\n\n\n\nEpic Faroe Islands Road Trip: 8 Days of Puffins\, Waterfalls & Hidden Villages!\nDay 1: Arrival & Chill in Vágar\nTouch down at Vágar Airport and drive to Tórshavn\, the tiniest capital on Earth. \nCheck in\, freshen up\, and soak in island vibes. Overnight in Vágar—your gateway to Nordic magic. \nStay in Tórshavn \nDay 2: Streymoy Island Wonders\nKick off with Saksun‘s grass-thatched fairy-tale cottages (just 14 residents!) nestled in a mountain amphitheatre—stop at sheep farm Dúvugarðar en route. Hit cliff-perched Tjørnuvík for northernmost village views (no hike needed!). Pit-stop at mighty Fossa Waterfall (140m drop!). Evening: Explore Tórshavn’s Cathedral\, sip coffee at Østrøm\, dine at Áarstova. \nStay in Tórshavn. \nDay 3: Eysturoy’s Epic Drives\nCross to Eysturoy—home to Slættaratindur\, the Faroes’ tallest peak! Marvel at Gjógv‘s ocean gorge\, Viking vibes in Funningur (hike optional over fjords)\, then Göta for the intimate Hoyma Music Festival (unplugged tunes in locals’ homes—pure magic!). \nStay in Göta. \nDays 4-5: Conquer Krosstindur Hike\nTackle the beast: 7-hour trek to Krosstindur\, Húsafelli & Malinstindur peaks (shorter option available). Waterproof gear essential for panoramic payoffs—camera mandatory! \nStay local. \nDay 6: Puffin Paradise on Mykines\nFerry to Mykines for 300+ bird species\, including puffin hordes on rugged cliffs. Amplify with hikes blending ocean vistas and feathered frenzy. \nStay on Mykines. \nDay 7: Thrills & Vágar Highlights\nToday you can explore the city or do an optional Helicopter ride over sheep clouds! \nThen Vágar: Hike Leitisvatn lake to vertigo-inducing Trælanípa (Slave Rock legend—optical illusion of lake-over-ocean!). Chase rainbows at cliff-village Gasadalur‘s Mulafossur Waterfall\, witness Bøsdalafossur crashing into waves. \nSushi feast at Etika in Tórshavn. \nStay in Tórshavn \nDay 8: Farewell Vágar\nYour Faroe Islands road trip odyssey ends\, but the memories? Eternal. \n  \nFor the package\, kindly WhatsApp us on 9029099709 \nPackage 99999 INR per person \nIncludes: \nStay for 8D/7N \nBreakfast (7) \nAirport to Hotel transfers \nTravel in a private vehicle (as per itinerary) \n  \nExcludes: \nAirfare \nVisa (we have an agent who can help you\, but he is slow) \nDinner/Lunch \nPersonal Expense \nActivity/Entry charges \n  \nCancellation Terms \n\nBooking fee(Non-refundable) : INR 20\,000/- (Inc. in total trip cost)\nMinimum 50% payment to be completed 60 days prior to departure\nThe remaining payments to be completed 30 days prior to departure\n\nQ. Trip requirements? \nA vaccine (both shots) certificate will be required\, and the trip will be based on the current guidelines of the EU for Indian travellers. If your 2nd dose is 9 months old\, then you must provide a booster dose certificate also. \nQ.Which visa is needed for this trip? \nAns: Kindly contact your agent for a visa to the Faroe Islands. \nQ. Will you help me to apply for a visa? \nAns: Although visas & flights do not come under our preview\, and you can contact your own agent\, but if you want\, then we will make you meet a visa expert agent\, who will surely help you with the visa process. We will not be responsible for visas and flights or agents. \nQ. Refund Policy \nAns: No refund 60 days before the trip. No reasons will be considered. Book after planning properly. \nQ.I want to see your last trip pics? \nAns: Follow the link: PICTURES \nQ. Can I drive it? \nAns: Yes you can drive if you have a valid Indian driving license and you can pay for the additional driver fee. \nQ. How will I meet the group if I come? \nAns: We will add you to our WhatsApp group for further communication and if you are coming alone then we will arrange an airport pickup for you by public transport. \nQ.Do you have any referral discounts? \nAns: Yes\, if someone joins us because of you or with you\, then you will get a discount of 2500 rupees. \nQ.Any Any discount for a group? \nAns: Yes\, if you are more than 2 then you will get a group discount of 3000 Rupees. \nQ.Where can I see the T&C of the trips? \nAns: Follow this link: CLICK ME \nHow to contact us? \nCall us on 9029099709 or email us at info@travelbuddiestalk.com \n  \nTeam TBT \nwww.travelbuddiestalk.com \ninfo@travelbuddiestalk.com \nCall/Whatsapp: +91 9029099709 \n\nShare On\nFacebook
URL:https://travelbuddiestalk.com/event/faroe-island-2/
LOCATION:faroe Island\, Faroe Islands
CATEGORIES:Beach,Bucket List Special,Culture,Customize Travel,honeymoon,international,Mountain,Road Trip,Trails,Travel Buddies Talk,Treks
ATTACH;FMTTYPE=image/jpeg:https://travelbuddiestalk.com/wp-content/uploads/2022/07/Faroe-Island-landscape-2-1200x857-1.jpeg
ORGANIZER;CN="Gaurav":MAILTO:info@travelbuddiestalk.com
END:VEVENT
END:VCALENDAR