BEGIN:VCALENDAR
VERSION:2.0
PRODID:-//Travel Buddies Talk - ECPv6.13.2.1//NONSGML v1.0//EN
CALSCALE:GREGORIAN
METHOD:PUBLISH
X-WR-CALNAME:Travel Buddies Talk
X-ORIGINAL-URL:https://travelbuddiestalk.com
X-WR-CALDESC:Events for Travel Buddies Talk
REFRESH-INTERVAL;VALUE=DURATION:PT1H
X-Robots-Tag:noindex
X-PUBLISHED-TTL:PT1H
BEGIN:VTIMEZONE
TZID:Asia/Kolkata
BEGIN:STANDARD
TZOFFSETFROM:+0530
TZOFFSETTO:+0530
TZNAME:IST
DTSTART:20270101T000000
END:STANDARD
END:VTIMEZONE
BEGIN:VEVENT
DTSTART;TZID=Asia/Kolkata:20270127T000000
DTEND;TZID=Asia/Kolkata:20270212T000000
DTSTAMP:20260424T060932
CREATED:20230401T072226Z
LAST-MODIFIED:20251111T073505Z
UID:7038-1801008000-1802390400@travelbuddiestalk.com
SUMMARY:Antarctica: Land on the 7th Continent
DESCRIPTION:Antarctica: Land on the 7th Continent\n \nIf Antarctica is in your bucket list and you are not able to tick it out because of the cost? then this is your time to book your dream trip @380000 p.p(all-inclusive*). You can book this trip by paying only @50k p.p now and can pay later rest of the amount.\nCheck out our Antarctica Trip Video \n \n14 NIGHT ANTARCTICA CRUISE\nTake a trip of a lifetime to Antarctica in the safety & comfort of a 90000 tonnage award-winning Cruise Ship. Setting sail from South America\, you’ll visit ports of calls in Argentina\, Chile and Uruguay in addition to cruising around through Paradise Bay and Elephant Island & Falkland Islands on your Antarctica cruise.\n.\n.\n .\n\nPORTS OF CALL: Buenos Aires – Argentina\, At sea\, At sea\, At sea\, Ushuaia – Argentina\, Cape Horn – chile\, Schollart channel – Antarctica\, Elephant Island – Antarctica\, At sea\, Port Stanley – Falkland is\, At sea\, Puerto Madryn – Argentina\, At sea\, Montevideo – Uruguay\, Buenos Aires – Argentina\n\n\nHow to book?\nContact us on WhatsApp \n\n\n\nPackage:\nStateroom View: 380000 p.p\n\nOcean View: 420000 p.p\n\nBalcony View: 460000 p.p\n\nCRUISE FARE INCLUDES –\n\nOcean transportation – as per itinerary\nAll meals(breakfast-Lunch-Dinner). Beverages available in vending machines\n24-hours Room Service*\, recreation and entertainment as provided on-board\nUnlimited free access to almost all public areas\nComplimentary room service – for Grand Suites and above\n\nCRUISE FARE DOES NOT INCLUDE –\n\nShore excursions\, bar beverages and gratuities\nDining in the speciality restaurants & casino chips\nOn-board shopping laundry\, telephone calls\, photographs & medical services\n250 $ mandatory cruise fee is not included\n\nAdditional Includes:\n\n4 Night stay in a double occupancy room in Argentina (after/before the cruise)\n4 breakfast\nAirport pick N drop\n14 days cruise includes all meals\n\n\nExcludes:\n\nFlight (book a return flight from your city to BUENOS AIRES\, ARGENTINA)\nVisa.   (Apply visa for Argentina\, no visa is required for Antarctica)\nLunch/Dinner (4 days)\nPersonal expense\n\n\n Complimentary Onboard Packages for Guests\n• Visit Unique Ports of calls in Argentina\, Chile & Uruguay in addition to the unforgettable experience of cruising through Antarctica.\n• Visit this unexplored continent with harsh climatic conditions in the comfort & safety of a large ocean liner – A 90000 tonnage large ocean cruise liner\n\n\nAdd On –\n\n\n\nCLASSIC BEVERAGE PACKAGE\n– Value up to USD 110.00 per day per stateroom\, plus gratuities \n\n\n\n\nONBOARD CREDIT\n– Value USD 300.00 per stateroom \n\n\n\n\n\n\n\nUNLIMITED HIGH-SPEED INTERNET PACKAGE\n– (Based on the following rates USD 199.00 per person for 9 nights or less\, USD 299.00 per person for 10 nights or longer) \n\n\n\n\n\n*A convenience fee of $7.95 per order applies on items from the All-day Menu & American section of the Breakfast Menu. Items under the continental breakfast section remain complimentary.\n\n*** The prevailing promotional offer is for a limited period only & will be applicable provided is still valid & available.\n\n\nFAQ:\n\nQ.How to book this trip?\nCall/WhatsApp us on 9029099709 or email on Info@boywithbucketlist.com\n\n\nQ. What to read about our last trip to Antarctica Blog?\n Link to the blog is here: Antarctica on budget\nAlso\, check out our blog on Amazon Forest \n\nQ. How can I connect for future trip updates?\nJust click this link and join our Facebook updates for future trips: CLICK ME\n\n\nQ.How many seats available?\nTotal seats are 10\n\nQ.Which cruise we will travel with?\nTake a trip of a lifetime to Antarctica in the safety & comfort of a 90000 tonnage award-winning Cruise Ship.\n\nQ. Can I see the photo of the cruise?\nYes\, a topmost section of this page is the Celebrity Infinity.\n\nQ.What kind of rooms will be provided?\ndouble occupancy rooms.\n\nQ.Payment terms?\n100% of payments will be required to secure a seat.\n\nQ.What kind of temperature shall we expect?\nTemperatures are still warm in February and the weather pretty stable\, making travel pleasant. Average temperatures: Antarctic Peninsula: 34 degrees F (1 degree C) South Georgia: 45 degrees F (7 degrees C)\n\nWhat are there seasons in Antarctica?\nThis results in only two polar two seasons—summer and winter. In summer at the poles\, the sun does not set\, and in winter the sun does not rise. Expedition 10 takes place close to the South Pole\, in the ocean around Antarctica during the southern hemisphere summer season.\n\nSummer in Antarctica. Weather conditions of the continent vary between inland regions\, slopes of Antarctic plateau and coasts. Inland summer (November–February) averages are between -25 and -45 °C (-13…-49 °F). Averages in slopes of the plateau may reach 10 °C (50 °F).\n\nQ.How to book?\nCall us on 9029099709 or email on info@travelbuddiestalk.com\n\n\n\nTeam\nTBT\ninfo@travelbuddiestalk.com\n+91-9029099709
URL:https://travelbuddiestalk.com/event/antarctica-land-on-the-7th-continent/
ATTACH;FMTTYPE=image/jpeg:https://travelbuddiestalk.com/wp-content/uploads/2018/11/Antarctica-Cruise.jpg
END:VEVENT
END:VCALENDAR